BEGIN:VCALENDAR
VERSION:2.0
PRODID:-//Enterprise Europe Network Hungary - ECPv6.15.18//NONSGML v1.0//EN
CALSCALE:GREGORIAN
METHOD:PUBLISH
X-WR-CALNAME:Enterprise Europe Network Hungary
X-ORIGINAL-URL:https://enterpriseeurope.hu
X-WR-CALDESC:Események Enterprise Europe Network Hungary
REFRESH-INTERVAL;VALUE=DURATION:PT1H
X-Robots-Tag:noindex
X-PUBLISHED-TTL:PT1H
BEGIN:VTIMEZONE
TZID:Europe/Budapest
BEGIN:DAYLIGHT
TZOFFSETFROM:+0100
TZOFFSETTO:+0200
TZNAME:CEST
DTSTART:20250330T010000
END:DAYLIGHT
BEGIN:STANDARD
TZOFFSETFROM:+0200
TZOFFSETTO:+0100
TZNAME:CET
DTSTART:20251026T010000
END:STANDARD
BEGIN:DAYLIGHT
TZOFFSETFROM:+0100
TZOFFSETTO:+0200
TZNAME:CEST
DTSTART:20260329T010000
END:DAYLIGHT
BEGIN:STANDARD
TZOFFSETFROM:+0200
TZOFFSETTO:+0100
TZNAME:CET
DTSTART:20261025T010000
END:STANDARD
BEGIN:DAYLIGHT
TZOFFSETFROM:+0100
TZOFFSETTO:+0200
TZNAME:CEST
DTSTART:20270328T010000
END:DAYLIGHT
BEGIN:STANDARD
TZOFFSETFROM:+0200
TZOFFSETTO:+0100
TZNAME:CET
DTSTART:20271031T010000
END:STANDARD
END:VTIMEZONE
BEGIN:VEVENT
DTSTART;VALUE=DATE:20260507
DTEND;VALUE=DATE:20260509
DTSTAMP:20260423T142801
CREATED:20260414T073323Z
LAST-MODIFIED:20260414T073323Z
UID:5924-1778112000-1778284799@enterpriseeurope.hu
SUMMARY:Autóipari üzleti partnerkeresés Lengyelországban
DESCRIPTION:11. Autóipari CEE Nap / 1. Védelmi CEE Nap – B2B találkozók az autóipar számára \n2026. május 7–8-án kerül sor az immár 11. Automotive CEE Napra a lengyelországi Opole-ban (Kiállítási és Kongresszusi Központ). Idén a rendezvény a Védelmi CEE Nappal is bővül. Az Automotive CEE Nap Lengyelország legnagyobb autóipari beszerzési rendezvénye\, és Közép-Kelet-Európa egyik legfontosabb B2B eseménye. A rendezvény középpontjában az OEM beszerzési döntéshozók\, az 1. szintű beszállítók és a technológiai vállalatok közötti közvetlen üzleti találkozók állnak Európa-szerte. \nA korábbi években olyan országokból érkeztek vállalatok\, mint Lengyelország\, Németország\, Csehország\, Szlovákia\, Olaszország\, Spanyolország és Törökország. Az esemény egy olyan üzleti partnerkereső platformot kínál\, amely lehetővé teszi a résztvevők számára\, hogy előre megszervezzék az üzleti igényeikre szabott találkozókat. \nA korábbi rendezvények látogatottsága számokban:\n• 700+ résztvevő\n• közel 2300 B2B találkozó\n• 85 kiállító\n• vállalatok több európai országból \nKinek érdemes részt vennie?\n• járműgyártók és beszállítók\n• akkumulátor- és energiarendszer előállítók\n• IT\, automatizálási és K+F vállalatok\n• gyártási és minőségbiztosítási megoldások szolgáltatói\n• védelmi és kettős felhasználású technológiai vállalatok \n Hogyan működik?\n1. Regisztráljon és hozzon létre egy céges profilt\n2. Válasszon üzleti partnereket a platformon keresztül\n3. Egyeztessen le találkozó időpontokat\n4. Vegyen részt az előre egyeztetett találkozókon Opole-ban (a helyszínen) \nAz Enterprise Europe Network partnervállalatai számára:\n• a Szervező 20% kedvezményt biztosít a belépőjegy árából\n• a kedvezményes kód 2026. április 24-ig használható fel \nTovábbi információkért és a Kedvezményes Kódért\, valamint a regisztrációval kapcsolatos kérdéseivel kérjük\, vegye fel velünk a kapcsolatot:\n\nTóth Árpád\ntoth.arpad@hepa.hu\n+36 30 879 6234 \nA rendezvényre az alábbi linken regisztrálhat:\nhttps://www.automotiveceeday.eu/
URL:https://enterpriseeurope.hu/rendezveny/autoipari-uzleti-partnerkereses-lengyelorszagban/
CATEGORIES:B2B/Matchmaking
ATTACH;FMTTYPE=image/jpeg:https://enterpriseeurope.hu/wp-content/uploads/2026/04/Automotive_CEE_Day_and_Defence_CEE_Day_Opole_Poland_EEN.jpg
END:VEVENT
END:VCALENDAR