BEGIN:VCALENDAR
VERSION:2.0
PRODID:-//Enterprise Europe Network Hungary - ECPv6.15.18//NONSGML v1.0//EN
CALSCALE:GREGORIAN
METHOD:PUBLISH
X-WR-CALNAME:Enterprise Europe Network Hungary
X-ORIGINAL-URL:https://enterpriseeurope.hu
X-WR-CALDESC:Események Enterprise Europe Network Hungary
REFRESH-INTERVAL;VALUE=DURATION:PT1H
X-Robots-Tag:noindex
X-PUBLISHED-TTL:PT1H
BEGIN:VTIMEZONE
TZID:Europe/Budapest
BEGIN:DAYLIGHT
TZOFFSETFROM:+0100
TZOFFSETTO:+0200
TZNAME:CEST
DTSTART:20250330T010000
END:DAYLIGHT
BEGIN:STANDARD
TZOFFSETFROM:+0200
TZOFFSETTO:+0100
TZNAME:CET
DTSTART:20251026T010000
END:STANDARD
BEGIN:DAYLIGHT
TZOFFSETFROM:+0100
TZOFFSETTO:+0200
TZNAME:CEST
DTSTART:20260329T010000
END:DAYLIGHT
BEGIN:STANDARD
TZOFFSETFROM:+0200
TZOFFSETTO:+0100
TZNAME:CET
DTSTART:20261025T010000
END:STANDARD
BEGIN:DAYLIGHT
TZOFFSETFROM:+0100
TZOFFSETTO:+0200
TZNAME:CEST
DTSTART:20270328T010000
END:DAYLIGHT
BEGIN:STANDARD
TZOFFSETFROM:+0200
TZOFFSETTO:+0100
TZNAME:CET
DTSTART:20271031T010000
END:STANDARD
END:VTIMEZONE
BEGIN:VEVENT
DTSTART;VALUE=DATE:20260520
DTEND;VALUE=DATE:20260612
DTSTAMP:20260423T140943
CREATED:20260414T073411Z
LAST-MODIFIED:20260415T121135Z
UID:5921-1779235200-1781222399@enterpriseeurope.hu
SUMMARY:Folytatódnak a NIÜ Horizon Europe pályázatra felkészítő workshopjai
DESCRIPTION:A Nemzeti Innovációs Ügynökség (NIÜ) ingyenes pályázati workshopokat indít májusban KKV-k számára. \nA NIÜ Enterprise Horizon programja információátadással támogatja az innovatív vállalkozásokat a Horizon Europe pályázatban való sikeres részvételben\, illetve nemzetközi konzorciumok építésében. \nA NIÜ által kidolgozott felkészítési rendszerben a részvétel ingyenes\, a személyes és/vagy online workshopok során további kapcsolatok és partnerségek kiépítésére nyílik lehetőség\, valamint a hazai jó példák\, nyertes projektek tapasztalatai is bemutatásra kerülnek. \nA START\, azaz az első szint programja a Horizon Europe pályázati rendszerről ismeretekkel nem rendelkező\, ezen a pályán „kezdő” pályázókat célozza meg.\nSTART workshop következő időpontja: 2026. május 20. szerda 9:00-12:00\nTovábbi információ és jelentkezés:  Start – Enterprise Horizon workshop | Nemzeti Innovációs Ügynökség \nA PROGRESS a második\, haladó szint. Ezen a kurzuson részletesebben ismertetik az egyes pályázati struktúrák felépítését\, specifikus elvárásait\, egyedi értékelési rendszereit\, pénzügyi és elszámolhatósági kérdéseit.\nPROGRESS workshop következő időpontja: 2026. június11. csütörtök 9:30-13:00\nTovábbi információ és jelentkezés:  Progress – Enterprise Horizon workshop | Nemzeti Innovációs Ügynökség \nA megadott linken tud regisztrálni az ingyenes képzésre. Amennyiben bármilyen további kérdése merülne fel a képzéssel vagy a regisztrációval kapcsolatosan\, akkor jelezze az ehorizon@niu.hu e-mail címen. \n(Forrás: NIÜ)
URL:https://enterpriseeurope.hu/rendezveny/folytatodnak-a-niu-horizon-europe-palyazatra-felkeszito-workshopjai-2/
CATEGORIES:Workshop
ATTACH;FMTTYPE=image/jpeg:https://enterpriseeurope.hu/wp-content/uploads/2026/04/Horizon_Europe_general_banner.jpg
END:VEVENT
END:VCALENDAR